BEGIN:VCALENDAR
VERSION:2.0
PRODID:-//ZContent.net//ZapCalLib 1.0//EN
CALSCALE:GREGORIAN
METHOD:PUBLISH
BEGIN:VTIMEZONE
TZID:Europe/Berlin
BEGIN:DAYLIGHT
DTSTART:20230326T030000
TZOFFSETFROM:+0100
TZOFFSETTO:+0200
TZNAME:CEST
END:DAYLIGHT
BEGIN:STANDARD
DTSTART:20231029T020000
TZOFFSETFROM:+0200
TZOFFSETTO:+0100
TZNAME:CET
END:STANDARD
BEGIN:DAYLIGHT
DTSTART:20240331T030000
TZOFFSETFROM:+0100
TZOFFSETTO:+0200
TZNAME:CEST
END:DAYLIGHT
BEGIN:STANDARD
DTSTART:20241027T020000
TZOFFSETFROM:+0200
TZOFFSETTO:+0100
TZNAME:CET
END:STANDARD
BEGIN:DAYLIGHT
DTSTART:20250330T030000
TZOFFSETFROM:+0100
TZOFFSETTO:+0200
TZNAME:CEST
END:DAYLIGHT
BEGIN:STANDARD
DTSTART:20251026T020000
TZOFFSETFROM:+0200
TZOFFSETTO:+0100
TZNAME:CET
END:STANDARD
END:VTIMEZONE
BEGIN:VTIMEZONE
TZID:Europe/Berlin
BEGIN:DAYLIGHT
DTSTART:20230326T030000
TZOFFSETFROM:+0100
TZOFFSETTO:+0200
TZNAME:CEST
END:DAYLIGHT
BEGIN:STANDARD
DTSTART:20231029T020000
TZOFFSETFROM:+0200
TZOFFSETTO:+0100
TZNAME:CET
END:STANDARD
BEGIN:DAYLIGHT
DTSTART:20240331T030000
TZOFFSETFROM:+0100
TZOFFSETTO:+0200
TZNAME:CEST
END:DAYLIGHT
BEGIN:STANDARD
DTSTART:20241027T020000
TZOFFSETFROM:+0200
TZOFFSETTO:+0100
TZNAME:CET
END:STANDARD
BEGIN:DAYLIGHT
DTSTART:20250330T030000
TZOFFSETFROM:+0100
TZOFFSETTO:+0200
TZNAME:CEST
END:DAYLIGHT
BEGIN:STANDARD
DTSTART:20251026T020000
TZOFFSETFROM:+0200
TZOFFSETTO:+0100
TZNAME:CET
END:STANDARD
END:VTIMEZONE
BEGIN:VTIMEZONE
TZID:Europe/Berlin
BEGIN:DAYLIGHT
DTSTART:20230326T030000
TZOFFSETFROM:+0100
TZOFFSETTO:+0200
TZNAME:CEST
END:DAYLIGHT
BEGIN:STANDARD
DTSTART:20231029T020000
TZOFFSETFROM:+0200
TZOFFSETTO:+0100
TZNAME:CET
END:STANDARD
BEGIN:DAYLIGHT
DTSTART:20240331T030000
TZOFFSETFROM:+0100
TZOFFSETTO:+0200
TZNAME:CEST
END:DAYLIGHT
BEGIN:STANDARD
DTSTART:20241027T020000
TZOFFSETFROM:+0200
TZOFFSETTO:+0100
TZNAME:CET
END:STANDARD
BEGIN:DAYLIGHT
DTSTART:20250330T030000
TZOFFSETFROM:+0100
TZOFFSETTO:+0200
TZNAME:CEST
END:DAYLIGHT
BEGIN:STANDARD
DTSTART:20251026T020000
TZOFFSETFROM:+0200
TZOFFSETTO:+0100
TZNAME:CET
END:STANDARD
END:VTIMEZONE
BEGIN:VTIMEZONE
TZID:Europe/Berlin
BEGIN:DAYLIGHT
DTSTART:20230326T030000
TZOFFSETFROM:+0100
TZOFFSETTO:+0200
TZNAME:CEST
END:DAYLIGHT
BEGIN:STANDARD
DTSTART:20231029T020000
TZOFFSETFROM:+0200
TZOFFSETTO:+0100
TZNAME:CET
END:STANDARD
BEGIN:DAYLIGHT
DTSTART:20240331T030000
TZOFFSETFROM:+0100
TZOFFSETTO:+0200
TZNAME:CEST
END:DAYLIGHT
BEGIN:STANDARD
DTSTART:20241027T020000
TZOFFSETFROM:+0200
TZOFFSETTO:+0100
TZNAME:CET
END:STANDARD
BEGIN:DAYLIGHT
DTSTART:20250330T030000
TZOFFSETFROM:+0100
TZOFFSETTO:+0200
TZNAME:CEST
END:DAYLIGHT
BEGIN:STANDARD
DTSTART:20251026T020000
TZOFFSETFROM:+0200
TZOFFSETTO:+0100
TZNAME:CET
END:STANDARD
END:VTIMEZONE
BEGIN:VTIMEZONE
TZID:Europe/Berlin
BEGIN:DAYLIGHT
DTSTART:20230326T030000
TZOFFSETFROM:+0100
TZOFFSETTO:+0200
TZNAME:CEST
END:DAYLIGHT
BEGIN:STANDARD
DTSTART:20231029T020000
TZOFFSETFROM:+0200
TZOFFSETTO:+0100
TZNAME:CET
END:STANDARD
BEGIN:DAYLIGHT
DTSTART:20240331T030000
TZOFFSETFROM:+0100
TZOFFSETTO:+0200
TZNAME:CEST
END:DAYLIGHT
BEGIN:STANDARD
DTSTART:20241027T020000
TZOFFSETFROM:+0200
TZOFFSETTO:+0100
TZNAME:CET
END:STANDARD
BEGIN:DAYLIGHT
DTSTART:20250330T030000
TZOFFSETFROM:+0100
TZOFFSETTO:+0200
TZNAME:CEST
END:DAYLIGHT
BEGIN:STANDARD
DTSTART:20251026T020000
TZOFFSETFROM:+0200
TZOFFSETTO:+0100
TZNAME:CET
END:STANDARD
END:VTIMEZONE
BEGIN:VEVENT
SUMMARY:Aktivwoche bei den BLOCKHELDEN
Description:Startet in die Sommerferien mit einer sportlichen Woche bei den
  BLOCKHELDEN!\nLernt das Bouldern spielerisch kennen und erweitert euer KÃ
 ¶nnen\, indem wir gemeinsam die Halle erkunden\, wÃ¤hrend ihr verschiedene
  Aufgaben meistert. \nNatÃ¼rlich steht das Bouldern an erster Stelle\, abe
 r auch weitere bewegungsreiche AktivitÃ¤ten\, die Gleichgewicht und Geschi
 ck erfordern\, wie Kinderyoga\, Akrobatik und Jonglage werden ausprobiert.
  Ebenso werden wir kreativ sein und dabei unter anderem eine Erinnerung an
  eure Zeit bei uns schaffen.
LOCATION:Boulderhalle BLOCKHELDEN Erlangen\, Kurt-Albert-Str. 1\, 91088 Bub
 enreuth
DTSTART:20240902T080000
DTEND:20240902T163000
DTSTAMP:20260422T193928
END:VEVENT
BEGIN:VEVENT
SUMMARY:Aktivwoche bei den BLOCKHELDEN
Description:Startet in die Sommerferien mit einer sportlichen Woche bei den
  BLOCKHELDEN!\nLernt das Bouldern spielerisch kennen und erweitert euer KÃ
 ¶nnen\, indem wir gemeinsam die Halle erkunden\, wÃ¤hrend ihr verschiedene
  Aufgaben meistert. \nNatÃ¼rlich steht das Bouldern an erster Stelle\, abe
 r auch weitere bewegungsreiche AktivitÃ¤ten\, die Gleichgewicht und Geschi
 ck erfordern\, wie Kinderyoga\, Akrobatik und Jonglage werden ausprobiert.
  Ebenso werden wir kreativ sein und dabei unter anderem eine Erinnerung an
  eure Zeit bei uns schaffen.
LOCATION:Boulderhalle BLOCKHELDEN Erlangen\, Kurt-Albert-Str. 1\, 91088 Bub
 enreuth
DTSTART:20240903T080000
DTEND:20240903T163000
DTSTAMP:20260422T193928
END:VEVENT
BEGIN:VEVENT
SUMMARY:Aktivwoche bei den BLOCKHELDEN
Description:Startet in die Sommerferien mit einer sportlichen Woche bei den
  BLOCKHELDEN!\nLernt das Bouldern spielerisch kennen und erweitert euer KÃ
 ¶nnen\, indem wir gemeinsam die Halle erkunden\, wÃ¤hrend ihr verschiedene
  Aufgaben meistert. \nNatÃ¼rlich steht das Bouldern an erster Stelle\, abe
 r auch weitere bewegungsreiche AktivitÃ¤ten\, die Gleichgewicht und Geschi
 ck erfordern\, wie Kinderyoga\, Akrobatik und Jonglage werden ausprobiert.
  Ebenso werden wir kreativ sein und dabei unter anderem eine Erinnerung an
  eure Zeit bei uns schaffen.
LOCATION:Boulderhalle BLOCKHELDEN Erlangen\, Kurt-Albert-Str. 1\, 91088 Bub
 enreuth
DTSTART:20240904T080000
DTEND:20240904T163000
DTSTAMP:20260422T193928
END:VEVENT
BEGIN:VEVENT
SUMMARY:Aktivwoche bei den BLOCKHELDEN
Description:Startet in die Sommerferien mit einer sportlichen Woche bei den
  BLOCKHELDEN!\nLernt das Bouldern spielerisch kennen und erweitert euer KÃ
 ¶nnen\, indem wir gemeinsam die Halle erkunden\, wÃ¤hrend ihr verschiedene
  Aufgaben meistert. \nNatÃ¼rlich steht das Bouldern an erster Stelle\, abe
 r auch weitere bewegungsreiche AktivitÃ¤ten\, die Gleichgewicht und Geschi
 ck erfordern\, wie Kinderyoga\, Akrobatik und Jonglage werden ausprobiert.
  Ebenso werden wir kreativ sein und dabei unter anderem eine Erinnerung an
  eure Zeit bei uns schaffen.
LOCATION:Boulderhalle BLOCKHELDEN Erlangen\, Kurt-Albert-Str. 1\, 91088 Bub
 enreuth
DTSTART:20240905T080000
DTEND:20240905T163000
DTSTAMP:20260422T193928
END:VEVENT
BEGIN:VEVENT
SUMMARY:Aktivwoche bei den BLOCKHELDEN
Description:Startet in die Sommerferien mit einer sportlichen Woche bei den
  BLOCKHELDEN!\nLernt das Bouldern spielerisch kennen und erweitert euer KÃ
 ¶nnen\, indem wir gemeinsam die Halle erkunden\, wÃ¤hrend ihr verschiedene
  Aufgaben meistert. \nNatÃ¼rlich steht das Bouldern an erster Stelle\, abe
 r auch weitere bewegungsreiche AktivitÃ¤ten\, die Gleichgewicht und Geschi
 ck erfordern\, wie Kinderyoga\, Akrobatik und Jonglage werden ausprobiert.
  Ebenso werden wir kreativ sein und dabei unter anderem eine Erinnerung an
  eure Zeit bei uns schaffen.
LOCATION:Boulderhalle BLOCKHELDEN Erlangen\, Kurt-Albert-Str. 1\, 91088 Bub
 enreuth
DTSTART:20240906T080000
DTEND:20240906T163000
DTSTAMP:20260422T193928
END:VEVENT
END:VCALENDAR
 

