BEGIN:VCALENDAR
VERSION:2.0
PRODID:-//ZContent.net//ZapCalLib 1.0//EN
CALSCALE:GREGORIAN
METHOD:PUBLISH
BEGIN:VTIMEZONE
TZID:Europe/Berlin
BEGIN:DAYLIGHT
DTSTART:20220327T030000
TZOFFSETFROM:+0100
TZOFFSETTO:+0200
TZNAME:CEST
END:DAYLIGHT
BEGIN:STANDARD
DTSTART:20221030T020000
TZOFFSETFROM:+0200
TZOFFSETTO:+0100
TZNAME:CET
END:STANDARD
BEGIN:DAYLIGHT
DTSTART:20230326T030000
TZOFFSETFROM:+0100
TZOFFSETTO:+0200
TZNAME:CEST
END:DAYLIGHT
BEGIN:STANDARD
DTSTART:20231029T020000
TZOFFSETFROM:+0200
TZOFFSETTO:+0100
TZNAME:CET
END:STANDARD
BEGIN:DAYLIGHT
DTSTART:20240331T030000
TZOFFSETFROM:+0100
TZOFFSETTO:+0200
TZNAME:CEST
END:DAYLIGHT
BEGIN:STANDARD
DTSTART:20241027T020000
TZOFFSETFROM:+0200
TZOFFSETTO:+0100
TZNAME:CET
END:STANDARD
END:VTIMEZONE
BEGIN:VEVENT
SUMMARY:Mascha und der Bär
Description:Simson vom Kinderkulturbüro präsentiert das Theater Knuth aus
  Holzheim.  \nAls die kleine\, freche Mascha in das Leben des Bären tritt
 \, ist es für ihn aus mit Ruhe und Gemütlichkeit.\nEines Tages  bringt d
 er Bär ein Ei mit und daraus entschlüpft ein kleines Küken. Doch das ha
 rmonische Leben der drei wird plötzlich gestört als ein Wolf auftaucht u
 nd hinterlistig das Küken entführt.\nMutig macht sich das Mädchen Masch
 a auf den Weg um das Küken zu suchen. Schließlich gelingt es ihr mit ihr
 er Tatkraft und der Hilfe der zuschauenden Kinder den Wolf zu überlisten 
 und das Küken zu befreien.\nAm Ende ist das aber vielleicht gar nicht so 
 schlimm\, denn Mascha sorgt nicht nur für Chaos\, sondern auch für jede 
 Menge Spaß!
LOCATION:Kulturforum Logenhaus\, Universitätsstraße 25
DTSTART:20231210T110000
DTEND:20231210T120000
DTSTAMP:20260422T164829
END:VEVENT
END:VCALENDAR
 

