BEGIN:VCALENDAR
VERSION:2.0
PRODID:-//ZContent.net//ZapCalLib 1.0//EN
CALSCALE:GREGORIAN
METHOD:PUBLISH
BEGIN:VTIMEZONE
TZID:Europe/Berlin
BEGIN:DAYLIGHT
DTSTART:20220327T030000
TZOFFSETFROM:+0100
TZOFFSETTO:+0200
TZNAME:CEST
END:DAYLIGHT
BEGIN:STANDARD
DTSTART:20221030T020000
TZOFFSETFROM:+0200
TZOFFSETTO:+0100
TZNAME:CET
END:STANDARD
BEGIN:DAYLIGHT
DTSTART:20230326T030000
TZOFFSETFROM:+0100
TZOFFSETTO:+0200
TZNAME:CEST
END:DAYLIGHT
BEGIN:STANDARD
DTSTART:20231029T020000
TZOFFSETFROM:+0200
TZOFFSETTO:+0100
TZNAME:CET
END:STANDARD
BEGIN:DAYLIGHT
DTSTART:20240331T030000
TZOFFSETFROM:+0100
TZOFFSETTO:+0200
TZNAME:CEST
END:DAYLIGHT
BEGIN:STANDARD
DTSTART:20241027T020000
TZOFFSETFROM:+0200
TZOFFSETTO:+0100
TZNAME:CET
END:STANDARD
END:VTIMEZONE
BEGIN:VEVENT
SUMMARY:Skateboard fahren lernen für Anfänger und Fortgeschrittene
Description:In diesem Ferien-Kompaktkurs kommen alle Teilnehmer/innen auf I
 hre Kosten: Der Spaß am Skateboard fahren wird hier auf sichere und profe
 ssionelle Art von erfahrenen Skateboard Coaches vermittelt.\nAlle Trainer 
 gehen individuell auf euch ein\, je nach Vorerfahrung wird vor Ort eine Ei
 nteilung in Anfänger\, Fortgeschrittene und Könner vorgenommen.\nBei den
  Anfängern startet der Kurs mit den Grundlagen\, bei den Könnern schauen
  die Coaches gemeinsam mit euch welche Tricks ihr noch lernen oder verbess
 ern wollt.\nAlle Teilnehmer und Teilnehmerinnen werden kontinuierlich gefo
 rdert – aber niemals überfordert.
LOCATION:Skatepark Omega Erlangen\, Michael-Vogel-Straße 1G
DTSTART:20230403T093000
DTEND:20230403T123000
DTSTAMP:20260422T131250
END:VEVENT
END:VCALENDAR
 

