BEGIN:VCALENDAR
VERSION:2.0
PRODID:-//ZContent.net//ZapCalLib 1.0//EN
CALSCALE:GREGORIAN
METHOD:PUBLISH
BEGIN:VTIMEZONE
TZID:Europe/Berlin
BEGIN:DAYLIGHT
DTSTART:20210328T030000
TZOFFSETFROM:+0100
TZOFFSETTO:+0200
TZNAME:CEST
END:DAYLIGHT
BEGIN:STANDARD
DTSTART:20211031T020000
TZOFFSETFROM:+0200
TZOFFSETTO:+0100
TZNAME:CET
END:STANDARD
BEGIN:DAYLIGHT
DTSTART:20220327T030000
TZOFFSETFROM:+0100
TZOFFSETTO:+0200
TZNAME:CEST
END:DAYLIGHT
BEGIN:STANDARD
DTSTART:20221030T020000
TZOFFSETFROM:+0200
TZOFFSETTO:+0100
TZNAME:CET
END:STANDARD
BEGIN:DAYLIGHT
DTSTART:20230326T030000
TZOFFSETFROM:+0100
TZOFFSETTO:+0200
TZNAME:CEST
END:DAYLIGHT
BEGIN:STANDARD
DTSTART:20231029T020000
TZOFFSETFROM:+0200
TZOFFSETTO:+0100
TZNAME:CET
END:STANDARD
END:VTIMEZONE
BEGIN:VTIMEZONE
TZID:Europe/Berlin
BEGIN:DAYLIGHT
DTSTART:20210328T030000
TZOFFSETFROM:+0100
TZOFFSETTO:+0200
TZNAME:CEST
END:DAYLIGHT
BEGIN:STANDARD
DTSTART:20211031T020000
TZOFFSETFROM:+0200
TZOFFSETTO:+0100
TZNAME:CET
END:STANDARD
BEGIN:DAYLIGHT
DTSTART:20220327T030000
TZOFFSETFROM:+0100
TZOFFSETTO:+0200
TZNAME:CEST
END:DAYLIGHT
BEGIN:STANDARD
DTSTART:20221030T020000
TZOFFSETFROM:+0200
TZOFFSETTO:+0100
TZNAME:CET
END:STANDARD
BEGIN:DAYLIGHT
DTSTART:20230326T030000
TZOFFSETFROM:+0100
TZOFFSETTO:+0200
TZNAME:CEST
END:DAYLIGHT
BEGIN:STANDARD
DTSTART:20231029T020000
TZOFFSETFROM:+0200
TZOFFSETTO:+0100
TZNAME:CET
END:STANDARD
END:VTIMEZONE
BEGIN:VEVENT
SUMMARY:Aikido - Kampfkunst ohne Gewalt
Description:Die gewaltlose Selbstverteidigung Aikido wurde aus den Kampfkü
 nsten der japanischen Samurai entwickelt. Aber im Aikido gibt es keine Ang
 riffstechniken mehr. Durch geschicktes Ausweichen bringt man den Gegner au
 s dem Gleichgewicht und dann ohne viel Kraft mit Wurf- oder Hebeltechniken
  unter Kontrolle ohne ihn zu verletzen. Deshalb ist Aikido auch für die n
 icht so starken unter euch und für Mädchen geeignet. Ihr lernt geschickt
 es Fallen und Rollen\, grundlegende Bewegungsformen und einfache Aikidowü
 rfe. Außerdem üben wir Grundtechniken mit dem Holzschwert und Kampfstock
 . \nLängeres regelmäßiges Training verbessert übrigens eure Körperbeh
 errschung\, eure Konzentrationsfähigkeit und euer Selbstbewusstsein. Alle
 rdings braucht ihr auch Disziplin und Durchhaltevermögen.
LOCATION:Ki-Shin-Tai Dojo\, Am Schwabachgrund 22\, 91054 Buckenhof
DTSTART:20220830T190000
DTEND:20220830T213000
DTSTAMP:20260421T101650
END:VEVENT
BEGIN:VEVENT
SUMMARY:Aikido - Kampfkunst ohne Gewalt
Description:Die gewaltlose Selbstverteidigung Aikido wurde aus den Kampfkü
 nsten der japanischen Samurai entwickelt. Aber im Aikido gibt es keine Ang
 riffstechniken mehr. Durch geschicktes Ausweichen bringt man den Gegner au
 s dem Gleichgewicht und dann ohne viel Kraft mit Wurf- oder Hebeltechniken
  unter Kontrolle ohne ihn zu verletzen. Deshalb ist Aikido auch für die n
 icht so starken unter euch und für Mädchen geeignet. Ihr lernt geschickt
 es Fallen und Rollen\, grundlegende Bewegungsformen und einfache Aikidowü
 rfe. Außerdem üben wir Grundtechniken mit dem Holzschwert und Kampfstock
 . \nLängeres regelmäßiges Training verbessert übrigens eure Körperbeh
 errschung\, eure Konzentrationsfähigkeit und euer Selbstbewusstsein. Alle
 rdings braucht ihr auch Disziplin und Durchhaltevermögen.
LOCATION:Ki-Shin-Tai Dojo\, Am Schwabachgrund 22\, 91054 Buckenhof
DTSTART:20220901T190000
DTEND:20220901T213000
DTSTAMP:20260421T101650
END:VEVENT
END:VCALENDAR
 

